BEGIN:VCALENDAR
VERSION:2.0
PRODID:-//wp-events-plugin.com//7.2.3.1//EN
TZID:Europe/Berlin
X-WR-TIMEZONE:Europe/Berlin
BEGIN:VEVENT
UID:556@aquawelt-bothe.de
DTSTART;TZID=Europe/Berlin:20250625T190000
DTEND;TZID=Europe/Berlin:20250625T203000
DTSTAMP:20250417T093253Z
URL:https://www.aquawelt-bothe.de/kurs/vitalinfo-25-06-2025/
SUMMARY:Vitalinfo (25.06.2025)
DESCRIPTION:Am 25.06.2025 von 19:00 - 20:30 Uhr\n\nMit Caro und Julia
CATEGORIES:Vitalcheck,Vitalwelt
LOCATION:Vitalwelt Salzgitter Thiede\, Frankfurter Straße 44\, Salzgitter\
 , Niedersachsen\, 38239\, Deutschland
GEO:52.187197;10.484526
X-APPLE-STRUCTURED-LOCATION;VALUE=URI;X-ADDRESS=Frankfurter Straße 44\, Sa
 lzgitter\, Niedersachsen\, 38239\, Deutschland;X-APPLE-RADIUS=100;X-TITLE=
 Vitalwelt Salzgitter Thiede:geo:52.187197,10.484526
END:VEVENT
BEGIN:VTIMEZONE
TZID:Europe/Berlin
X-LIC-LOCATION:Europe/Berlin
BEGIN:DAYLIGHT
DTSTART:20250330T030000
TZOFFSETFROM:+0100
TZOFFSETTO:+0200
TZNAME:CEST
END:DAYLIGHT
END:VTIMEZONE
END:VCALENDAR