BEGIN:VCALENDAR
VERSION:2.0
PRODID:-//wp-events-plugin.com//7.2.3.1//EN
TZID:Europe/Berlin
X-WR-TIMEZONE:Europe/Berlin
BEGIN:VEVENT
UID:280@aquawelt-bothe.de
DTSTART;TZID=Europe/Berlin:20221219T155500
DTEND;TZID=Europe/Berlin:20230306T162500
DTSTAMP:20230215T194726Z
URL:https://www.aquawelt-bothe.de/kurs/seestern-ab-3-4-jahren-montag-ab-19
 -12-2022/
SUMMARY:Seestern ab 3-4 Jahren (Montag\, ab 19.12.2022)
DESCRIPTION:&nbsp\;\n\nTermin:\n\n19.12.2022 - 06.03.23\n\nFerien: 26.12.22
 /02.01.23/30.01.23/06.02.23/13.02.23/20.02.23 an diesen Tagen finden keine
  Kurse statt.\n\nKursleitung:\n\nJulia
CATEGORIES:3-4 Jahren (Seestern),Wassergewöhnung und -bewältigung
LOCATION:Residenz am Lindenberg\, Guldener Kamp 5-9\, Salzgitter\, Niedersa
 chsen\, 38239\, Deutschland
GEO:52.183845;10.489461
X-APPLE-STRUCTURED-LOCATION;VALUE=URI;X-ADDRESS=Guldener Kamp 5-9\, Salzgit
 ter\, Niedersachsen\, 38239\, Deutschland;X-APPLE-RADIUS=100;X-TITLE=Resid
 enz am Lindenberg:geo:52.183845,10.489461
END:VEVENT
BEGIN:VTIMEZONE
TZID:Europe/Berlin
X-LIC-LOCATION:Europe/Berlin
BEGIN:STANDARD
DTSTART:20221030T020000
TZOFFSETFROM:+0200
TZOFFSETTO:+0100
TZNAME:CET
END:STANDARD
END:VTIMEZONE
END:VCALENDAR