BEGIN:VCALENDAR
VERSION:2.0
PRODID:-//wp-events-plugin.com//7.2.3.1//EN
TZID:Europe/Berlin
X-WR-TIMEZONE:Europe/Berlin
BEGIN:VEVENT
UID:202@aquawelt-bothe.de
DTSTART;TZID=Europe/Berlin:20220826T153500
DTEND;TZID=Europe/Berlin:20220930T160500
DTSTAMP:20220517T095659Z
URL:https://www.aquawelt-bothe.de/kurs/seestern-ab-3-4-jahren-freitag-ab-2
 6-08-2022-3/
SUMMARY:Seestern ab 3-4 Jahren (Freitag\, ab 26.08.2022)
DESCRIPTION:Termin:\n\n26.08.2022 - 30.09.2022
CATEGORIES:3-4 Jahren (Seestern),Wassergewöhnung und -bewältigung
LOCATION:Residenz am Lindenberg\, Guldener Kamp 5-9\, Salzgitter\, Niedersa
 chsen\, 38239\, Deutschland
GEO:52.183845;10.489461
X-APPLE-STRUCTURED-LOCATION;VALUE=URI;X-ADDRESS=Guldener Kamp 5-9\, Salzgit
 ter\, Niedersachsen\, 38239\, Deutschland;X-APPLE-RADIUS=100;X-TITLE=Resid
 enz am Lindenberg:geo:52.183845,10.489461
END:VEVENT
BEGIN:VTIMEZONE
TZID:Europe/Berlin
X-LIC-LOCATION:Europe/Berlin
BEGIN:DAYLIGHT
DTSTART:20220327T030000
TZOFFSETFROM:+0100
TZOFFSETTO:+0200
TZNAME:CEST
END:DAYLIGHT
END:VTIMEZONE
END:VCALENDAR