BEGIN:VCALENDAR
VERSION:2.0
PRODID:-//wp-events-plugin.com//7.2.3.1//EN
TZID:Europe/Berlin
X-WR-TIMEZONE:Europe/Berlin
BEGIN:VEVENT
UID:662@aquawelt-bothe.de
DTSTART;TZID=Europe/Berlin:20260320T153500
DTEND;TZID=Europe/Berlin:20260508T160500
DTSTAMP:20260115T104642Z
URL:https://www.aquawelt-bothe.de/kurs/seestern-ab-3-4-jahren-freitag-ab-2
 0-03-2026-2/
SUMMARY:Seestern ab 3-4 Jahren (Freitag\, ab 20.03.2026)
DESCRIPTION:Termin:\n\n20.03.2026 - 08.05.2026\n\nFerien:\n\n03.04./01.05.2
 026\n\nAn diesen Tagen finden keine Kurse statt.\n\nKursleitung:\n\nJulia
CATEGORIES:3-4 Jahren (Seestern),Wassergewöhnung und -bewältigung
LOCATION:Residenz am Lindenberg\, Guldener Kamp 5-9\, Salzgitter\, Niedersa
 chsen\, 38239\, Deutschland
GEO:52.183845;10.489461
X-APPLE-STRUCTURED-LOCATION;VALUE=URI;X-ADDRESS=Guldener Kamp 5-9\, Salzgit
 ter\, Niedersachsen\, 38239\, Deutschland;X-APPLE-RADIUS=100;X-TITLE=Resid
 enz am Lindenberg:geo:52.183845,10.489461
END:VEVENT
BEGIN:VTIMEZONE
TZID:Europe/Berlin
X-LIC-LOCATION:Europe/Berlin
BEGIN:STANDARD
DTSTART:20251026T020000
TZOFFSETFROM:+0200
TZOFFSETTO:+0100
TZNAME:CET
END:STANDARD
BEGIN:DAYLIGHT
DTSTART:20260329T030000
TZOFFSETFROM:+0100
TZOFFSETTO:+0200
TZNAME:CEST
END:DAYLIGHT
END:VTIMEZONE
END:VCALENDAR