BEGIN:VCALENDAR
VERSION:2.0
PRODID:-//wp-events-plugin.com//7.2.3.1//EN
TZID:Europe/Berlin
X-WR-TIMEZONE:Europe/Berlin
BEGIN:VEVENT
UID:396@aquawelt-bothe.de
DTSTART;TZID=Europe/Berlin:20231117T150000
DTEND;TZID=Europe/Berlin:20231222T153000
DTSTAMP:20230828T132549Z
URL:https://www.aquawelt-bothe.de/kurs/seestern-ab-3-4-jahren-freitag-ab-1
 7-11-2023/
SUMMARY:Seestern ab 3-4 Jahren (Freitag\, ab 17.11.2023)
DESCRIPTION:&nbsp\;\n\nTermin: 17.11.2023 - 22.12.2023\n\nKursleitung:\n\nJ
 ulia
CATEGORIES:3-4 Jahren (Seestern),Wassergewöhnung und -bewältigung
LOCATION:Residenz am Lindenberg\, Guldener Kamp 5-9\, Salzgitter\, Niedersa
 chsen\, 38239\, Deutschland
GEO:52.183845;10.489461
X-APPLE-STRUCTURED-LOCATION;VALUE=URI;X-ADDRESS=Guldener Kamp 5-9\, Salzgit
 ter\, Niedersachsen\, 38239\, Deutschland;X-APPLE-RADIUS=100;X-TITLE=Resid
 enz am Lindenberg:geo:52.183845,10.489461
END:VEVENT
BEGIN:VTIMEZONE
TZID:Europe/Berlin
X-LIC-LOCATION:Europe/Berlin
BEGIN:STANDARD
DTSTART:20231029T020000
TZOFFSETFROM:+0200
TZOFFSETTO:+0100
TZNAME:CET
END:STANDARD
END:VTIMEZONE
END:VCALENDAR