BEGIN:VCALENDAR
VERSION:2.0
PRODID:-//wp-events-plugin.com//7.2.3.1//EN
TZID:Europe/Berlin
X-WR-TIMEZONE:Europe/Berlin
BEGIN:VEVENT
UID:441@aquawelt-bothe.de
DTSTART;TZID=Europe/Berlin:20240503T153500
DTEND;TZID=Europe/Berlin:20240621T160500
DTSTAMP:20240227T185532Z
URL:https://www.aquawelt-bothe.de/kurs/seestern-ab-3-4-jahren-freitag-ab-0
 3-05-2024-2/
SUMMARY:Seestern ab 3-4 Jahren (Freitag\, ab 03.05.2024)
DESCRIPTION:&nbsp\;\n\nTermin: 03.05.24 - 21.06.24\n\nFerien: 10.05.24/07.0
 6.24 an diesen Tagen finden keine Kurse statt.\n\nKursleitung:\n\nJulia
CATEGORIES:3-4 Jahren (Seestern),Wassergewöhnung und -bewältigung
LOCATION:Residenz am Lindenberg\, Guldener Kamp 5-9\, Salzgitter\, Niedersa
 chsen\, 38239\, Deutschland
GEO:52.183845;10.489461
X-APPLE-STRUCTURED-LOCATION;VALUE=URI;X-ADDRESS=Guldener Kamp 5-9\, Salzgit
 ter\, Niedersachsen\, 38239\, Deutschland;X-APPLE-RADIUS=100;X-TITLE=Resid
 enz am Lindenberg:geo:52.183845,10.489461
END:VEVENT
BEGIN:VTIMEZONE
TZID:Europe/Berlin
X-LIC-LOCATION:Europe/Berlin
BEGIN:DAYLIGHT
DTSTART:20240331T030000
TZOFFSETFROM:+0100
TZOFFSETTO:+0200
TZNAME:CEST
END:DAYLIGHT
END:VTIMEZONE
END:VCALENDAR