BEGIN:VCALENDAR
VERSION:2.0
PRODID:-//wp-events-plugin.com//7.2.3.1//EN
TZID:Europe/Berlin
X-WR-TIMEZONE:Europe/Berlin
BEGIN:VEVENT
UID:518@aquawelt-bothe.de
DTSTART;TZID=Europe/Berlin:20241203T153500
DTEND;TZID=Europe/Berlin:20250121T160500
DTSTAMP:20241107T140349Z
URL:https://www.aquawelt-bothe.de/kurs/seestern-ab-3-4-jahren-dienstag-ab-
 03-12-2024/
SUMMARY:Seestern ab 3-4 Jahren (Dienstag\, ab 03.12.2024)
DESCRIPTION:&nbsp\;\n\nTermin: 03.12.2024 - 21.01.2025\n\nFerien: 24.12.24/
 31.12.24\n\n&nbsp\;\n\nKursleitung:\n\nJulia
CATEGORIES:3-4 Jahren (Seestern),Wassergewöhnung und -bewältigung
LOCATION:Residenz am Lindenberg\, Guldener Kamp 5-9\, Salzgitter\, Niedersa
 chsen\, 38239\, Deutschland
GEO:52.183845;10.489461
X-APPLE-STRUCTURED-LOCATION;VALUE=URI;X-ADDRESS=Guldener Kamp 5-9\, Salzgit
 ter\, Niedersachsen\, 38239\, Deutschland;X-APPLE-RADIUS=100;X-TITLE=Resid
 enz am Lindenberg:geo:52.183845,10.489461
END:VEVENT
BEGIN:VTIMEZONE
TZID:Europe/Berlin
X-LIC-LOCATION:Europe/Berlin
BEGIN:STANDARD
DTSTART:20241027T020000
TZOFFSETFROM:+0200
TZOFFSETTO:+0100
TZNAME:CET
END:STANDARD
END:VTIMEZONE
END:VCALENDAR