BEGIN:VCALENDAR
VERSION:2.0
PRODID:-//wp-events-plugin.com//7.2.3.1//EN
TZID:Europe/Berlin
X-WR-TIMEZONE:Europe/Berlin
BEGIN:VEVENT
UID:208@aquawelt-bothe.de
DTSTART;TZID=Europe/Berlin:20220319T125000
DTEND;TZID=Europe/Berlin:20220618T132000
DTSTAMP:20220526T163926Z
URL:https://www.aquawelt-bothe.de/kurs/seehund-ab-5-jahren-samstag19-03-20
 22-2/
SUMMARY:Seehund ab 5 Jahren (Samstag19.03.2022)
DESCRIPTION:Termin:\n\n19.03.2022 - 18.06.2022\n\nFerien:\n\n09.04.2022 und
  16.04.2022/28.05.22/04.06.22 in dieser Zeit finden keine Kurse statt.
CATEGORIES:ab 5 Jahren (Seehund),Kinderschwimmen
LOCATION:Thieder Bad\, Danziger Straße 2\, Salzgitter\, Niedersachsen\, 38
 239\, Deutschland
GEO:52.19559;10.479138
X-APPLE-STRUCTURED-LOCATION;VALUE=URI;X-ADDRESS=Danziger Straße 2\, Salzgi
 tter\, Niedersachsen\, 38239\, Deutschland;X-APPLE-RADIUS=100;X-TITLE=Thie
 der Bad:geo:52.19559,10.479138
END:VEVENT
BEGIN:VTIMEZONE
TZID:Europe/Berlin
X-LIC-LOCATION:Europe/Berlin
BEGIN:STANDARD
DTSTART:20211031T020000
TZOFFSETFROM:+0200
TZOFFSETTO:+0100
TZNAME:CET
END:STANDARD
BEGIN:DAYLIGHT
DTSTART:20220327T030000
TZOFFSETFROM:+0100
TZOFFSETTO:+0200
TZNAME:CEST
END:DAYLIGHT
END:VTIMEZONE
END:VCALENDAR