BEGIN:VCALENDAR
VERSION:2.0
PRODID:-//wp-events-plugin.com//7.2.3.1//EN
TZID:Europe/Berlin
X-WR-TIMEZONE:Europe/Berlin
BEGIN:VEVENT
UID:649@aquawelt-bothe.de
DTSTART;TZID=Europe/Berlin:20260217T150000
DTEND;TZID=Europe/Berlin:20260331T153000
DTSTAMP:20260217T113458Z
URL:https://www.aquawelt-bothe.de/kurs/schildkroete-1-2-jahre-dienstag17-0
 2-2026/
SUMMARY:Schildkröte 1-2 Jahre (Dienstag\,17.02.2026)
DESCRIPTION:Termin:\n\n17.02.2026 - 31.03.2026\n\nFerien: 10.03.2026 an die
 sem Tag findet kein Kurs statt.\n\nKursleitung: Julia
CATEGORIES:1-2 Jahre (Schildkröte),Kleinkinderschwimmen
LOCATION:Residenz am Lindenberg\, Guldener Kamp 5-9\, Salzgitter\, Niedersa
 chsen\, 38239\, Deutschland
GEO:52.183845;10.489461
X-APPLE-STRUCTURED-LOCATION;VALUE=URI;X-ADDRESS=Guldener Kamp 5-9\, Salzgit
 ter\, Niedersachsen\, 38239\, Deutschland;X-APPLE-RADIUS=100;X-TITLE=Resid
 enz am Lindenberg:geo:52.183845,10.489461
END:VEVENT
BEGIN:VTIMEZONE
TZID:Europe/Berlin
X-LIC-LOCATION:Europe/Berlin
BEGIN:STANDARD
DTSTART:20251026T020000
TZOFFSETFROM:+0200
TZOFFSETTO:+0100
TZNAME:CET
END:STANDARD
BEGIN:DAYLIGHT
DTSTART:20260329T030000
TZOFFSETFROM:+0100
TZOFFSETTO:+0200
TZNAME:CEST
END:DAYLIGHT
END:VTIMEZONE
END:VCALENDAR