BEGIN:VCALENDAR
VERSION:2.0
PRODID:-//wp-events-plugin.com//7.2.3.1//EN
TZID:Europe/Berlin
X-WR-TIMEZONE:Europe/Berlin
BEGIN:VEVENT
UID:324@aquawelt-bothe.de
DTSTART;TZID=Europe/Berlin:20230830T153500
DTEND;TZID=Europe/Berlin:20231101T160500
DTSTAMP:20230824T111328Z
URL:https://www.aquawelt-bothe.de/kurs/kleinkinderschwimmen-2-3-jahren-kau
 lquappe-mittwoch-ab-30-08-2023/
SUMMARY:Kleinkinderschwimmen 2-3 Jahren Kaulquappe (Mittwoch\, ab 30.08.202
 3)
DESCRIPTION:Termine:\n\n 	30.08.2023 - 01.11.2023\n\nFerien:\n\n 	06.09.202
 3/27.09.23/18.10.23/25.10.23 an diese Tagen finden keine Kurse statt.\n\nK
 ursleitung: Julia\n\n&nbsp\;
CATEGORIES:2-3 Jahren (Kaulquappe),Kleinkinderschwimmen
LOCATION:Residenz am Lindenberg\, Guldener Kamp 5-9\, Salzgitter\, Niedersa
 chsen\, 38239\, Deutschland
GEO:52.183845;10.489461
X-APPLE-STRUCTURED-LOCATION;VALUE=URI;X-ADDRESS=Guldener Kamp 5-9\, Salzgit
 ter\, Niedersachsen\, 38239\, Deutschland;X-APPLE-RADIUS=100;X-TITLE=Resid
 enz am Lindenberg:geo:52.183845,10.489461
END:VEVENT
BEGIN:VTIMEZONE
TZID:Europe/Berlin
X-LIC-LOCATION:Europe/Berlin
BEGIN:DAYLIGHT
DTSTART:20230326T030000
TZOFFSETFROM:+0100
TZOFFSETTO:+0200
TZNAME:CEST
END:DAYLIGHT
BEGIN:STANDARD
DTSTART:20231029T020000
TZOFFSETFROM:+0200
TZOFFSETTO:+0100
TZNAME:CET
END:STANDARD
END:VTIMEZONE
END:VCALENDAR