BEGIN:VCALENDAR
VERSION:2.0
PRODID:-//wp-events-plugin.com//7.2.3.1//EN
TZID:Europe/Berlin
X-WR-TIMEZONE:Europe/Berlin
BEGIN:VEVENT
UID:322@aquawelt-bothe.de
DTSTART;TZID=Europe/Berlin:20230503T153500
DTEND;TZID=Europe/Berlin:20230607T160500
DTSTAMP:20230228T154324Z
URL:https://www.aquawelt-bothe.de/kurs/kleinkinderschwimmen-2-3-jahren-kau
 lquappe-mittwoch-ab-26-04-2023/
SUMMARY:Kleinkinderschwimmen 2-3 Jahren Kaulquappe (Mittwoch\, ab 03.05.202
 3)
DESCRIPTION:Termine:\n\n 	03.05.2023 - 07.06.02023\n\nKursleitung: Julia\n\
 n&nbsp\;
CATEGORIES:2-3 Jahren (Kaulquappe),Kleinkinderschwimmen
LOCATION:Residenz am Lindenberg\, Guldener Kamp 5-9\, Salzgitter\, Niedersa
 chsen\, 38239\, Deutschland
GEO:52.183845;10.489461
X-APPLE-STRUCTURED-LOCATION;VALUE=URI;X-ADDRESS=Guldener Kamp 5-9\, Salzgit
 ter\, Niedersachsen\, 38239\, Deutschland;X-APPLE-RADIUS=100;X-TITLE=Resid
 enz am Lindenberg:geo:52.183845,10.489461
END:VEVENT
BEGIN:VTIMEZONE
TZID:Europe/Berlin
X-LIC-LOCATION:Europe/Berlin
BEGIN:DAYLIGHT
DTSTART:20230326T030000
TZOFFSETFROM:+0100
TZOFFSETTO:+0200
TZNAME:CEST
END:DAYLIGHT
END:VTIMEZONE
END:VCALENDAR