BEGIN:VCALENDAR
VERSION:2.0
PRODID:-//wp-events-plugin.com//7.2.3.1//EN
TZID:Europe/Berlin
X-WR-TIMEZONE:Europe/Berlin
BEGIN:VEVENT
UID:532@aquawelt-bothe.de
DTSTART;TZID=Europe/Berlin:20250205T154500
DTEND;TZID=Europe/Berlin:20250312T161500
DTSTAMP:20241209T151655Z
URL:https://www.aquawelt-bothe.de/kurs/kleinkinderschwimmen-2-3-jahren-kau
 lquappe-mittwoch-ab-05-02-2025/
SUMMARY:Kleinkinderschwimmen 2-3 Jahren Kaulquappe (Mittwoch\, ab 05.02.202
 5)
DESCRIPTION:Termine:\n\n 	05.02.2025 - 12.03.2025\n\n&nbsp\;\n\n&nbsp\;\n\n
 Kursleitung: Julia
CATEGORIES:2-3 Jahren (Kaulquappe),Kleinkinderschwimmen
LOCATION:Residenz am Lindenberg\, Guldener Kamp 5-9\, Salzgitter\, Niedersa
 chsen\, 38239\, Deutschland
GEO:52.183845;10.489461
X-APPLE-STRUCTURED-LOCATION;VALUE=URI;X-ADDRESS=Guldener Kamp 5-9\, Salzgit
 ter\, Niedersachsen\, 38239\, Deutschland;X-APPLE-RADIUS=100;X-TITLE=Resid
 enz am Lindenberg:geo:52.183845,10.489461
END:VEVENT
BEGIN:VTIMEZONE
TZID:Europe/Berlin
X-LIC-LOCATION:Europe/Berlin
BEGIN:STANDARD
DTSTART:20241027T020000
TZOFFSETFROM:+0200
TZOFFSETTO:+0100
TZNAME:CET
END:STANDARD
END:VTIMEZONE
END:VCALENDAR