BEGIN:VCALENDAR
VERSION:2.0
PRODID:-//wp-events-plugin.com//7.2.3.1//EN
TZID:Europe/Berlin
X-WR-TIMEZONE:Europe/Berlin
BEGIN:VEVENT
UID:305@aquawelt-bothe.de
DTSTART;TZID=Europe/Berlin:20230301T161000
DTEND;TZID=Europe/Berlin:20230426T164000
DTSTAMP:20230226T165954Z
URL:https://www.aquawelt-bothe.de/kurs/kleinkinderschwimmen-2-3-jahren-kau
 lquappe-mittwoch-ab-01-03-2023-2/
SUMMARY:Kleinkinderschwimmen 2-3 Jahren Kaulquappe (Mittwoch\, ab 01.03.202
 3)
DESCRIPTION:Termine:\n\n 	01.03.23 - 26.04.23\n\nFerien: 29.03.23/05.04.23/
 19.04.23\n\nKursleitung: Julia
CATEGORIES:2-3 Jahren (Kaulquappe),Kleinkinderschwimmen
LOCATION:Residenz am Lindenberg\, Guldener Kamp 5-9\, Salzgitter\, Niedersa
 chsen\, 38239\, Deutschland
GEO:52.183845;10.489461
X-APPLE-STRUCTURED-LOCATION;VALUE=URI;X-ADDRESS=Guldener Kamp 5-9\, Salzgit
 ter\, Niedersachsen\, 38239\, Deutschland;X-APPLE-RADIUS=100;X-TITLE=Resid
 enz am Lindenberg:geo:52.183845,10.489461
END:VEVENT
BEGIN:VTIMEZONE
TZID:Europe/Berlin
X-LIC-LOCATION:Europe/Berlin
BEGIN:STANDARD
DTSTART:20221030T020000
TZOFFSETFROM:+0200
TZOFFSETTO:+0100
TZNAME:CET
END:STANDARD
BEGIN:DAYLIGHT
DTSTART:20230326T030000
TZOFFSETFROM:+0100
TZOFFSETTO:+0200
TZNAME:CEST
END:DAYLIGHT
END:VTIMEZONE
END:VCALENDAR