BEGIN:VCALENDAR
VERSION:2.0
PRODID:-//wp-events-plugin.com//7.2.3.1//EN
TZID:Europe/Berlin
X-WR-TIMEZONE:Europe/Berlin
BEGIN:VEVENT
UID:491@aquawelt-bothe.de
DTSTART;TZID=Europe/Berlin:20240808T103500
DTEND;TZID=Europe/Berlin:20240919T110500
DTSTAMP:20240606T112817Z
URL:https://www.aquawelt-bothe.de/kurs/kleinkinderschwimmen-2-3-jahren-kau
 lquappe-donnerstag-08-08-2024/
SUMMARY:Kleinkinderschwimmen 2-3 Jahren Kaulquappe (Donnerstag\, 08.08.2024
 )
DESCRIPTION:Termine:\n\n 	08.08.24 - 19.09.24\n\nFerien: 12.09.2024 an dies
 em Tag findet kein Kurs statt.\n\nKursleitung: Julia
CATEGORIES:2-3 Jahren (Kaulquappe),Kleinkinderschwimmen
LOCATION:Residenz am Lindenberg\, Guldener Kamp 5-9\, Salzgitter\, Niedersa
 chsen\, 38239\, Deutschland
GEO:52.183845;10.489461
X-APPLE-STRUCTURED-LOCATION;VALUE=URI;X-ADDRESS=Guldener Kamp 5-9\, Salzgit
 ter\, Niedersachsen\, 38239\, Deutschland;X-APPLE-RADIUS=100;X-TITLE=Resid
 enz am Lindenberg:geo:52.183845,10.489461
END:VEVENT
BEGIN:VTIMEZONE
TZID:Europe/Berlin
X-LIC-LOCATION:Europe/Berlin
BEGIN:DAYLIGHT
DTSTART:20240331T030000
TZOFFSETFROM:+0100
TZOFFSETTO:+0200
TZNAME:CEST
END:DAYLIGHT
END:VTIMEZONE
END:VCALENDAR