BEGIN:VCALENDAR
VERSION:2.0
PRODID:-//wp-events-plugin.com//7.2.3.1//EN
TZID:Europe/Berlin
X-WR-TIMEZONE:Europe/Berlin
BEGIN:VEVENT
UID:257@aquawelt-bothe.de
DTSTART;TZID=Europe/Berlin:20221103T100000
DTEND;TZID=Europe/Berlin:20221208T103000
DTSTAMP:20220928T164354Z
URL:https://www.aquawelt-bothe.de/kurs/kleinkinderschwimmen-1-2-jahren-sch
 ildkroete-donnerstag-03-11-2022/
SUMMARY:Kleinkinderschwimmen 1-2 Jahren Schildkröte (Donnerstag\, 03.11.20
 22)
DESCRIPTION:Termine:\n\n 	03.11.2022 - 08.12.2022\n\nKursleitung: Julia
CATEGORIES:1-2 Jahre (Schildkröte),Kleinkinderschwimmen
LOCATION:Residenz am Lindenberg\, Guldener Kamp 5-9\, Salzgitter\, Niedersa
 chsen\, 38239\, Deutschland
GEO:52.183845;10.489461
X-APPLE-STRUCTURED-LOCATION;VALUE=URI;X-ADDRESS=Guldener Kamp 5-9\, Salzgit
 ter\, Niedersachsen\, 38239\, Deutschland;X-APPLE-RADIUS=100;X-TITLE=Resid
 enz am Lindenberg:geo:52.183845,10.489461
END:VEVENT
BEGIN:VTIMEZONE
TZID:Europe/Berlin
X-LIC-LOCATION:Europe/Berlin
BEGIN:STANDARD
DTSTART:20221030T020000
TZOFFSETFROM:+0200
TZOFFSETTO:+0100
TZNAME:CET
END:STANDARD
END:VTIMEZONE
END:VCALENDAR