BEGIN:VCALENDAR
VERSION:2.0
PRODID:-//wp-events-plugin.com//7.2.3.1//EN
TZID:Europe/Berlin
X-WR-TIMEZONE:Europe/Berlin
BEGIN:VEVENT
UID:349@aquawelt-bothe.de
DTSTART;TZID=Europe/Berlin:20231128T150000
DTEND;TZID=Europe/Berlin:20240116T153000
DTSTAMP:20231124T171737Z
URL:https://www.aquawelt-bothe.de/kurs/kleinkinderschwimmen-1-2-jahren-sch
 ildkroete-dienstag-ab-28-11-2023/
SUMMARY:Kleinkinderschwimmen 1-2 Jahren Schildkröte (Dienstag\, ab 28.11.2
 023)
DESCRIPTION:Termine:\n\n 	28.11.2023 - 16.01.2024\n\nFerien:\n\n26.12.23/02
 .01.24 an diesen Tagen finden keine Kurse statt.\n\n&nbsp\;\n\nKursleitung
 : Julia
CATEGORIES:1-2 Jahre (Schildkröte),Kleinkinderschwimmen
LOCATION:Residenz am Lindenberg\, Guldener Kamp 5-9\, Salzgitter\, Niedersa
 chsen\, 38239\, Deutschland
GEO:52.183845;10.489461
X-APPLE-STRUCTURED-LOCATION;VALUE=URI;X-ADDRESS=Guldener Kamp 5-9\, Salzgit
 ter\, Niedersachsen\, 38239\, Deutschland;X-APPLE-RADIUS=100;X-TITLE=Resid
 enz am Lindenberg:geo:52.183845,10.489461
END:VEVENT
BEGIN:VTIMEZONE
TZID:Europe/Berlin
X-LIC-LOCATION:Europe/Berlin
BEGIN:STANDARD
DTSTART:20231029T020000
TZOFFSETFROM:+0200
TZOFFSETTO:+0100
TZNAME:CET
END:STANDARD
END:VTIMEZONE
END:VCALENDAR