BEGIN:VCALENDAR
VERSION:2.0
PRODID:-//wp-events-plugin.com//7.2.3.1//EN
TZID:Europe/Berlin
X-WR-TIMEZONE:Europe/Berlin
BEGIN:VEVENT
UID:211@aquawelt-bothe.de
DTSTART;TZID=Europe/Berlin:20220906T150000
DTEND;TZID=Europe/Berlin:20221011T153000
DTSTAMP:20220831T163756Z
URL:https://www.aquawelt-bothe.de/kurs/kleinkinderschwimmen-1-2-jahren-sch
 ildkroete-dienstag-ab-06-09-2022/
SUMMARY:Kleinkinderschwimmen 1-2 Jahren Schildkröte (Dienstag\, ab 06.09.2
 022)
DESCRIPTION:Termine:\n\n 	06.09.2022- 11.10.2022\n
CATEGORIES:1-2 Jahre (Schildkröte),Kleinkinderschwimmen
LOCATION:Residenz am Lindenberg\, Guldener Kamp 5-9\, Salzgitter\, Niedersa
 chsen\, 38239\, Deutschland
GEO:52.183845;10.489461
X-APPLE-STRUCTURED-LOCATION;VALUE=URI;X-ADDRESS=Guldener Kamp 5-9\, Salzgit
 ter\, Niedersachsen\, 38239\, Deutschland;X-APPLE-RADIUS=100;X-TITLE=Resid
 enz am Lindenberg:geo:52.183845,10.489461
END:VEVENT
BEGIN:VTIMEZONE
TZID:Europe/Berlin
X-LIC-LOCATION:Europe/Berlin
BEGIN:DAYLIGHT
DTSTART:20220327T030000
TZOFFSETFROM:+0100
TZOFFSETTO:+0200
TZNAME:CEST
END:DAYLIGHT
END:VTIMEZONE
END:VCALENDAR