BEGIN:VCALENDAR
VERSION:2.0
PRODID:-//wp-events-plugin.com//7.2.3.1//EN
TZID:Europe/Berlin
X-WR-TIMEZONE:Europe/Berlin
BEGIN:VEVENT
UID:432@aquawelt-bothe.de
DTSTART;TZID=Europe/Berlin:20240305T153500
DTEND;TZID=Europe/Berlin:20240423T160500
DTSTAMP:20240208T141259Z
URL:https://www.aquawelt-bothe.de/kurs/kleinkinderschwimmen-1-2-jahren-sch
 ildkroete-dienstag-ab-05-03-2024-2/
SUMMARY:Kleinkinderschwimmen 1-2 Jahren Schildkröte (Dienstag\, ab 05.03.2
 024)
DESCRIPTION:Termine:\n\n 	05.03.2024 - 23.04.24\n\nFerien: 19.03.24/26.03.2
 4 an diesen Tagen finden keine Kurse statt.\n\n&nbsp\;\n\nKursleitung: Jul
 ia
CATEGORIES:1-2 Jahre (Schildkröte),Kleinkinderschwimmen
LOCATION:Residenz am Lindenberg\, Guldener Kamp 5-9\, Salzgitter\, Niedersa
 chsen\, 38239\, Deutschland
GEO:52.183845;10.489461
X-APPLE-STRUCTURED-LOCATION;VALUE=URI;X-ADDRESS=Guldener Kamp 5-9\, Salzgit
 ter\, Niedersachsen\, 38239\, Deutschland;X-APPLE-RADIUS=100;X-TITLE=Resid
 enz am Lindenberg:geo:52.183845,10.489461
END:VEVENT
BEGIN:VTIMEZONE
TZID:Europe/Berlin
X-LIC-LOCATION:Europe/Berlin
BEGIN:STANDARD
DTSTART:20231029T020000
TZOFFSETFROM:+0200
TZOFFSETTO:+0100
TZNAME:CET
END:STANDARD
BEGIN:DAYLIGHT
DTSTART:20240331T030000
TZOFFSETFROM:+0100
TZOFFSETTO:+0200
TZNAME:CEST
END:DAYLIGHT
END:VTIMEZONE
END:VCALENDAR