BEGIN:VCALENDAR
VERSION:2.0
PRODID:-//wp-events-plugin.com//7.2.3.1//EN
TZID:Europe/Berlin
X-WR-TIMEZONE:Europe/Berlin
BEGIN:VEVENT
UID:669@aquawelt-bothe.de
DTSTART;TZID=Europe/Berlin:20260415T154500
DTEND;TZID=Europe/Berlin:20260527T161500
DTSTAMP:20260217T115922Z
URL:https://www.aquawelt-bothe.de/kurs/kaulquappe-2-3-jahre-mittwoch-15-04
 -2026/
SUMMARY:Kaulquappe 2-3 Jahre (Mittwoch\, 15.04.2026)
DESCRIPTION:Termin:\n\n15.04.2026 - 27.05.2026\n\nFerien:\n\n20.05.2026 an 
 diesem Tag findet kein Kurs statt.\n\nKursleitung:\n\nJulia
CATEGORIES:2-3 Jahren (Kaulquappe),Kleinkinderschwimmen
LOCATION:Residenz am Lindenberg\, Guldener Kamp 5-9\, Salzgitter\, Niedersa
 chsen\, 38239\, Deutschland
GEO:52.183845;10.489461
X-APPLE-STRUCTURED-LOCATION;VALUE=URI;X-ADDRESS=Guldener Kamp 5-9\, Salzgit
 ter\, Niedersachsen\, 38239\, Deutschland;X-APPLE-RADIUS=100;X-TITLE=Resid
 enz am Lindenberg:geo:52.183845,10.489461
END:VEVENT
BEGIN:VTIMEZONE
TZID:Europe/Berlin
X-LIC-LOCATION:Europe/Berlin
BEGIN:DAYLIGHT
DTSTART:20260329T030000
TZOFFSETFROM:+0100
TZOFFSETTO:+0200
TZNAME:CEST
END:DAYLIGHT
END:VTIMEZONE
END:VCALENDAR