BEGIN:VCALENDAR
VERSION:2.0
PRODID:-//wp-events-plugin.com//7.2.3.1//EN
TZID:Europe/Berlin
X-WR-TIMEZONE:Europe/Berlin
BEGIN:VEVENT
UID:632@aquawelt-bothe.de
DTSTART;TZID=Europe/Berlin:20260107T151000
DTEND;TZID=Europe/Berlin:20260211T154000
DTSTAMP:20260118T180431Z
URL:https://www.aquawelt-bothe.de/kurs/kaulquappe-2-3-jahre-mittwoch-07-01
 -2026/
SUMMARY:Kaulquappe 2-3 Jahre (Mittwoch\, 07.01.2026)
DESCRIPTION:Termin:\n\n07.01.2026 - 11.02.\,2026\n\nKursleitung:\n\nJulia
CATEGORIES:2-3 Jahren (Kaulquappe),Kleinkinderschwimmen
LOCATION:Residenz am Lindenberg\, Guldener Kamp 5-9\, Salzgitter\, Niedersa
 chsen\, 38239\, Deutschland
GEO:52.183845;10.489461
X-APPLE-STRUCTURED-LOCATION;VALUE=URI;X-ADDRESS=Guldener Kamp 5-9\, Salzgit
 ter\, Niedersachsen\, 38239\, Deutschland;X-APPLE-RADIUS=100;X-TITLE=Resid
 enz am Lindenberg:geo:52.183845,10.489461
END:VEVENT
BEGIN:VTIMEZONE
TZID:Europe/Berlin
X-LIC-LOCATION:Europe/Berlin
BEGIN:STANDARD
DTSTART:20251026T020000
TZOFFSETFROM:+0200
TZOFFSETTO:+0100
TZNAME:CET
END:STANDARD
END:VTIMEZONE
END:VCALENDAR