BEGIN:VCALENDAR
VERSION:2.0
PRODID:-//wp-events-plugin.com//7.2.3.1//EN
TZID:Europe/Berlin
X-WR-TIMEZONE:Europe/Berlin
BEGIN:VEVENT
UID:642@aquawelt-bothe.de
DTSTART;TZID=Europe/Berlin:20251112T183000
DTEND;TZID=Europe/Berlin:20251112T193000
DTSTAMP:20251030T113744Z
URL:https://www.aquawelt-bothe.de/kurs/gewichtsmanagement-mittwoch-12-11-2
 025-2/
SUMMARY:Gewichtsmanagement (Mittwoch\, 12.11.2025)
DESCRIPTION:12.11.2025
CATEGORIES:Restart your life (mehr essen weniger wiegen),Vitalwelt
LOCATION:Thieder Bad\, Danziger Straße 2\, Salzgitter\, Niedersachsen\, 38
 239\, Deutschland
GEO:52.19559;10.479138
X-APPLE-STRUCTURED-LOCATION;VALUE=URI;X-ADDRESS=Danziger Straße 2\, Salzgi
 tter\, Niedersachsen\, 38239\, Deutschland;X-APPLE-RADIUS=100;X-TITLE=Thie
 der Bad:geo:52.19559,10.479138
END:VEVENT
BEGIN:VTIMEZONE
TZID:Europe/Berlin
X-LIC-LOCATION:Europe/Berlin
BEGIN:STANDARD
DTSTART:20251026T020000
TZOFFSETFROM:+0200
TZOFFSETTO:+0100
TZNAME:CET
END:STANDARD
END:VTIMEZONE
END:VCALENDAR