BEGIN:VCALENDAR
VERSION:2.0
PRODID:-//wp-events-plugin.com//7.2.3.1//EN
TZID:Europe/Berlin
X-WR-TIMEZONE:Europe/Berlin
BEGIN:VEVENT
UID:310@aquawelt-bothe.de
DTSTART;TZID=Europe/Berlin:20230110T183000
DTEND;TZID=Europe/Berlin:20230110T193000
DTSTAMP:20230109T093430Z
URL:https://www.aquawelt-bothe.de/kurs/die-handvoll-leichtigkeit/
SUMMARY:Die Handvoll Leichtigkeit
DESCRIPTION:\n 	Dauerhafte Reduzierung Deines Körpergewichts\n 	Optimierun
 g Deiner Verdauung für einen gesunden Darm\n 	Mehr Energie für den Allta
 g\n 	Aktivierung Deines Immunsystems\n 	Kinderleicht in Deinen Alltag zu i
 ntegrieren\n\n&nbsp\;
CATEGORIES:Restart your life (mehr essen weniger wiegen),Vitalwelt
LOCATION:DiWa Fashion Boutique\, Am Bahnhof 8 (über Olgas Haarwelt)\, Salz
 gitter\, Niedersachsen\, 38239\, Deutschland
GEO:52.180622;10.48938
X-APPLE-STRUCTURED-LOCATION;VALUE=URI;X-ADDRESS=Am Bahnhof 8 (über Olgas H
 aarwelt)\, Salzgitter\, Niedersachsen\, 38239\, Deutschland;X-APPLE-RADIUS
 =100;X-TITLE=DiWa Fashion Boutique:geo:52.180622,10.48938
END:VEVENT
BEGIN:VTIMEZONE
TZID:Europe/Berlin
X-LIC-LOCATION:Europe/Berlin
BEGIN:STANDARD
DTSTART:20221030T020000
TZOFFSETFROM:+0200
TZOFFSETTO:+0100
TZNAME:CET
END:STANDARD
END:VTIMEZONE
END:VCALENDAR