BEGIN:VCALENDAR
VERSION:2.0
PRODID:-//wp-events-plugin.com//7.2.3.1//EN
TZID:Europe/Berlin
X-WR-TIMEZONE:Europe/Berlin
BEGIN:VEVENT
UID:237@aquawelt-bothe.de
DTSTART;TZID=Europe/Berlin:20220705T164500
DTEND;TZID=Europe/Berlin:20220809T171500
DTSTAMP:20220703T175621Z
URL:https://www.aquawelt-bothe.de/kurs/delphin-ab-4-5-jahren-dienstag-ab-0
 5-07-2022-2/
SUMMARY:Delphin ab 4-5 Jahren (Dienstag ab 05.07.2022)
DESCRIPTION:Termin:\n\n05.07.2022 - 09.08.2022\n\n&nbsp\;\n\nKursleitung: B
 ianca
CATEGORIES:4-5 Jahre (Delphin),Wassergewöhnung und -bewältigung
LOCATION:Residenz am Lindenberg\, Guldener Kamp 5-9\, Salzgitter\, Niedersa
 chsen\, 38239\, Deutschland
GEO:52.183845;10.489461
X-APPLE-STRUCTURED-LOCATION;VALUE=URI;X-ADDRESS=Guldener Kamp 5-9\, Salzgit
 ter\, Niedersachsen\, 38239\, Deutschland;X-APPLE-RADIUS=100;X-TITLE=Resid
 enz am Lindenberg:geo:52.183845,10.489461
END:VEVENT
BEGIN:VTIMEZONE
TZID:Europe/Berlin
X-LIC-LOCATION:Europe/Berlin
BEGIN:DAYLIGHT
DTSTART:20220327T030000
TZOFFSETFROM:+0100
TZOFFSETTO:+0200
TZNAME:CEST
END:DAYLIGHT
END:VTIMEZONE
END:VCALENDAR