BEGIN:VCALENDAR
VERSION:2.0
PRODID:-//wp-events-plugin.com//7.2.3.1//EN
TZID:Europe/Berlin
X-WR-TIMEZONE:Europe/Berlin
BEGIN:VEVENT
UID:523@aquawelt-bothe.de
DTSTART;TZID=Europe/Berlin:20241203T161000
DTEND;TZID=Europe/Berlin:20250128T164000
DTSTAMP:20241110T201153Z
URL:https://www.aquawelt-bothe.de/kurs/delphin-4-5-jahre-dienstag-03-12-20
 24/
SUMMARY:Delphin 4-5 Jahre (Dienstag 03.12.2024)
DESCRIPTION:Termin:\n\n03.12.2024 - 28.01.2025\n\nFerien: 24.12.24/31.12.24
  an diesen Tagen finden keine Kurse statt.\n\n&nbsp\;\n\nKursleitung: Bian
 ca
CATEGORIES:4-5 Jahre (Delphin)
LOCATION:Residenz am Lindenberg\, Guldener Kamp 5-9\, Salzgitter\, Niedersa
 chsen\, 38239\, Deutschland
GEO:52.183845;10.489461
X-APPLE-STRUCTURED-LOCATION;VALUE=URI;X-ADDRESS=Guldener Kamp 5-9\, Salzgit
 ter\, Niedersachsen\, 38239\, Deutschland;X-APPLE-RADIUS=100;X-TITLE=Resid
 enz am Lindenberg:geo:52.183845,10.489461
END:VEVENT
BEGIN:VTIMEZONE
TZID:Europe/Berlin
X-LIC-LOCATION:Europe/Berlin
BEGIN:STANDARD
DTSTART:20241027T020000
TZOFFSETFROM:+0200
TZOFFSETTO:+0100
TZNAME:CET
END:STANDARD
END:VTIMEZONE
END:VCALENDAR