BEGIN:VCALENDAR
VERSION:2.0
PRODID:-//wp-events-plugin.com//7.2.3.1//EN
TZID:Europe/Berlin
X-WR-TIMEZONE:Europe/Berlin
BEGIN:VEVENT
UID:327@aquawelt-bothe.de
DTSTART;TZID=Europe/Berlin:20230208T183000
DTEND;TZID=Europe/Berlin:20230208T191500
DTSTAMP:20230126T135604Z
URL:https://www.aquawelt-bothe.de/kurs/dein-weg-zu-der-handvoll-leichtigke
 it/
SUMMARY:Dein Weg zu der "Handvoll Leichtigkeit"
DESCRIPTION:Du hast an einem Infoabend „Die Handvoll Leichtigkeit“ teil
 genommen und möchtest jetzt mit uns durchstarten?\n\nWas Dich bei unseren
  Treffen erwartet:\n\n 	Tipps\, um Deine Ziele und Fortschritte im Blick z
 u behalten\n 	Spaß an Bewegung und Motivation durch kleine\, gemeinsame W
 orkouts z. B. Aquafit oder Walken\n 	Erfahre mehr über tolle Rezepte und 
 Produkte\, die Dir bei Deiner Veränderung helfen\n 	Austausch mit anderen
  zu alltagstauglichen Routinen hinsichtlich Bewegung und Ernährung\n\nRes
 erviere Dir jetzt Deinen Platz zu unseren 3-wöchigen Treffen.\n\nWir freu
 en uns auf Dich!
CATEGORIES:Dein Weg zum “Restart”,Vitalwelt
LOCATION:DiWa Fashion Boutique\, Am Bahnhof 8 (über Olgas Haarwelt)\, Salz
 gitter\, Niedersachsen\, 38239\, Deutschland
GEO:52.180622;10.48938
X-APPLE-STRUCTURED-LOCATION;VALUE=URI;X-ADDRESS=Am Bahnhof 8 (über Olgas H
 aarwelt)\, Salzgitter\, Niedersachsen\, 38239\, Deutschland;X-APPLE-RADIUS
 =100;X-TITLE=DiWa Fashion Boutique:geo:52.180622,10.48938
END:VEVENT
BEGIN:VTIMEZONE
TZID:Europe/Berlin
X-LIC-LOCATION:Europe/Berlin
BEGIN:STANDARD
DTSTART:20221030T020000
TZOFFSETFROM:+0200
TZOFFSETTO:+0100
TZNAME:CET
END:STANDARD
END:VTIMEZONE
END:VCALENDAR