BEGIN:VCALENDAR
VERSION:2.0
PRODID:-//wp-events-plugin.com//7.2.3.1//EN
TZID:Europe/Berlin
X-WR-TIMEZONE:Europe/Berlin
BEGIN:VEVENT
UID:612@aquawelt-bothe.de
DTSTART;TZID=Europe/Berlin:20250917T183000
DTEND;TZID=Europe/Berlin:20250917T193000
DTSTAMP:20250830T175855Z
URL:https://www.aquawelt-bothe.de/kurs/beauty-von-innen-und-aussen-mittwoc
 h-17-09-2025/
SUMMARY:Beauty von innen und außen (Mittwoch\, 17.09.2025)
DESCRIPTION:Termin:\n\n17.09.2025
CATEGORIES:Beauty Schönheit von innen und außen,Vitalwelt
LOCATION:Vitalwelt Salzgitter Thiede\, Frankfurter Straße 44\, Salzgitter\
 , Niedersachsen\, 38239\, Deutschland
GEO:52.187197;10.484526
X-APPLE-STRUCTURED-LOCATION;VALUE=URI;X-ADDRESS=Frankfurter Straße 44\, Sa
 lzgitter\, Niedersachsen\, 38239\, Deutschland;X-APPLE-RADIUS=100;X-TITLE=
 Vitalwelt Salzgitter Thiede:geo:52.187197,10.484526
END:VEVENT
BEGIN:VTIMEZONE
TZID:Europe/Berlin
X-LIC-LOCATION:Europe/Berlin
BEGIN:DAYLIGHT
DTSTART:20250330T030000
TZOFFSETFROM:+0100
TZOFFSETTO:+0200
TZNAME:CEST
END:DAYLIGHT
END:VTIMEZONE
END:VCALENDAR