BEGIN:VCALENDAR
VERSION:2.0
PRODID:-//wp-events-plugin.com//7.2.3.1//EN
TZID:Europe/Berlin
X-WR-TIMEZONE:Europe/Berlin
BEGIN:VEVENT
UID:645@aquawelt-bothe.de
DTSTART;TZID=Europe/Berlin:20251217T183000
DTEND;TZID=Europe/Berlin:20251217T193000
DTSTAMP:20251030T114653Z
URL:https://www.aquawelt-bothe.de/kurs/beauty-mittwoch-17-12-2025/
SUMMARY:Beauty (Mittwoch\, 17.12.2025)
DESCRIPTION:17.12.2025
CATEGORIES:Beauty Schönheit von innen und außen,Vitalwelt
LOCATION:Vitalwelt Salzgitter Thiede\, Frankfurter Straße 44\, Salzgitter\
 , Niedersachsen\, 38239\, Deutschland
GEO:52.187197;10.484526
X-APPLE-STRUCTURED-LOCATION;VALUE=URI;X-ADDRESS=Frankfurter Straße 44\, Sa
 lzgitter\, Niedersachsen\, 38239\, Deutschland;X-APPLE-RADIUS=100;X-TITLE=
 Vitalwelt Salzgitter Thiede:geo:52.187197,10.484526
END:VEVENT
BEGIN:VTIMEZONE
TZID:Europe/Berlin
X-LIC-LOCATION:Europe/Berlin
BEGIN:STANDARD
DTSTART:20251026T020000
TZOFFSETFROM:+0200
TZOFFSETTO:+0100
TZNAME:CET
END:STANDARD
END:VTIMEZONE
END:VCALENDAR