BEGIN:VCALENDAR
VERSION:2.0
PRODID:-//wp-events-plugin.com//7.2.3.1//EN
TZID:Europe/Berlin
X-WR-TIMEZONE:Europe/Berlin
BEGIN:VEVENT
UID:254@aquawelt-bothe.de
DTSTART;TZID=Europe/Berlin:20221101T112500
DTEND;TZID=Europe/Berlin:20221206T121000
DTSTAMP:20220915T120459Z
URL:https://www.aquawelt-bothe.de/kurs/babyschwimmen-kurs-3-dienstag-ab-01
 -11-2022/
SUMMARY:Babyschwimmen Kurs 3 (Dienstag\, ab 01.11.2022)
DESCRIPTION:Termine\n\n 	01.11.2022 - 06.12.2022\n 	Kursleitung: Birka\n
CATEGORIES:Babyschwimmen,Babyschwimmen 4-7 Monate,Dienstag - Kurs 3
LOCATION:Residenz am Lindenberg\, Guldener Kamp 5-9\, Salzgitter\, Niedersa
 chsen\, 38239\, Deutschland
GEO:52.183845;10.489461
X-APPLE-STRUCTURED-LOCATION;VALUE=URI;X-ADDRESS=Guldener Kamp 5-9\, Salzgit
 ter\, Niedersachsen\, 38239\, Deutschland;X-APPLE-RADIUS=100;X-TITLE=Resid
 enz am Lindenberg:geo:52.183845,10.489461
END:VEVENT
BEGIN:VTIMEZONE
TZID:Europe/Berlin
X-LIC-LOCATION:Europe/Berlin
BEGIN:STANDARD
DTSTART:20221030T020000
TZOFFSETFROM:+0200
TZOFFSETTO:+0100
TZNAME:CET
END:STANDARD
END:VTIMEZONE
END:VCALENDAR