BEGIN:VCALENDAR
VERSION:2.0
PRODID:-//wp-events-plugin.com//7.2.3.1//EN
TZID:Europe/Berlin
X-WR-TIMEZONE:Europe/Berlin
BEGIN:VEVENT
UID:163@aquawelt-bothe.de
DTSTART;TZID=Europe/Berlin:20220228T152000
DTEND;TZID=Europe/Berlin:20220516T155000
DTSTAMP:20220324T094641Z
URL:https://www.aquawelt-bothe.de/kurs/babyschwimmen-kurs-2-montag-ab-28-0
 2-2022/
SUMMARY:Babyschwimmen Kurs 2 (Montag\, ab 28.02.2022)
DESCRIPTION:Termine\n\n 	28.02.2022 - 16.05.2022\n 	Ferien: 04.04. &amp\; 1
 1.04. &amp\; 18.04.2022 keine Kurse in dem Zeitraum.\n
CATEGORIES:Babyschwimmen,Babyschwimmen 7-12 Monate,Montag - Kurs 2
LOCATION:Residenz am Lindenberg\, Guldener Kamp 5-9\, Salzgitter\, Niedersa
 chsen\, 38239\, Deutschland
GEO:52.183845;10.489461
X-APPLE-STRUCTURED-LOCATION;VALUE=URI;X-ADDRESS=Guldener Kamp 5-9\, Salzgit
 ter\, Niedersachsen\, 38239\, Deutschland;X-APPLE-RADIUS=100;X-TITLE=Resid
 enz am Lindenberg:geo:52.183845,10.489461
END:VEVENT
BEGIN:VTIMEZONE
TZID:Europe/Berlin
X-LIC-LOCATION:Europe/Berlin
BEGIN:STANDARD
DTSTART:20211031T020000
TZOFFSETFROM:+0200
TZOFFSETTO:+0100
TZNAME:CET
END:STANDARD
BEGIN:DAYLIGHT
DTSTART:20220327T030000
TZOFFSETFROM:+0100
TZOFFSETTO:+0200
TZNAME:CEST
END:DAYLIGHT
END:VTIMEZONE
END:VCALENDAR