BEGIN:VCALENDAR
VERSION:2.0
PRODID:-//wp-events-plugin.com//7.2.3.1//EN
TZID:Europe/Berlin
X-WR-TIMEZONE:Europe/Berlin
BEGIN:VEVENT
UID:345@aquawelt-bothe.de
DTSTART;TZID=Europe/Berlin:20230915T095000
DTEND;TZID=Europe/Berlin:20231110T102000
DTSTAMP:20230913T064223Z
URL:https://www.aquawelt-bothe.de/kurs/babyschwimmen-kurs-2-freitag-ab-15-
 09-2023/
SUMMARY:Babyschwimmen Kurs 2 (Freitag\, ab 15.09.2023)
DESCRIPTION:Termine\n\n 	15.09.2023 - 10.11.2023\n\nFerien: 29.09./20.10./2
 7.10.23 an diesen Tagen finden keine Kurse statt.\n\nKursleitung: Julia
CATEGORIES:Babyschwimmen,Babyschwimmen 7-12 Monate,Freitag – Kurs 2
LOCATION:Residenz am Lindenberg\, Guldener Kamp 5-9\, Salzgitter\, Niedersa
 chsen\, 38239\, Deutschland
GEO:52.183845;10.489461
X-APPLE-STRUCTURED-LOCATION;VALUE=URI;X-ADDRESS=Guldener Kamp 5-9\, Salzgit
 ter\, Niedersachsen\, 38239\, Deutschland;X-APPLE-RADIUS=100;X-TITLE=Resid
 enz am Lindenberg:geo:52.183845,10.489461
END:VEVENT
BEGIN:VTIMEZONE
TZID:Europe/Berlin
X-LIC-LOCATION:Europe/Berlin
BEGIN:DAYLIGHT
DTSTART:20230326T030000
TZOFFSETFROM:+0100
TZOFFSETTO:+0200
TZNAME:CEST
END:DAYLIGHT
BEGIN:STANDARD
DTSTART:20231029T020000
TZOFFSETFROM:+0200
TZOFFSETTO:+0100
TZNAME:CET
END:STANDARD
END:VTIMEZONE
END:VCALENDAR