BEGIN:VCALENDAR
VERSION:2.0
PRODID:-//wp-events-plugin.com//7.2.3.1//EN
TZID:Europe/Berlin
X-WR-TIMEZONE:Europe/Berlin
BEGIN:VEVENT
UID:387@aquawelt-bothe.de
DTSTART;TZID=Europe/Berlin:20231219T105000
DTEND;TZID=Europe/Berlin:20240206T112000
DTSTAMP:20230620T114100Z
URL:https://www.aquawelt-bothe.de/kurs/babyschwimmen-kurs-2-dienstag-ab-19
 -12-2023/
SUMMARY:Babyschwimmen Kurs 2 (Dienstag\, ab 19.12.2023)
DESCRIPTION:Termine\n\n 	19.12.2023 - 06.02.2024\n\nFerien: 26.12.23/02.01.
 2024 an diesen Tagen finden keine Kurse statt.\n\n&nbsp\;\n\n 	Kursleitung
 : Birka\n
CATEGORIES:Babyschwimmen,Babyschwimmen 7-12 Monate,Montag - Kurs 2
LOCATION:Residenz am Lindenberg\, Guldener Kamp 5-9\, Salzgitter\, Niedersa
 chsen\, 38239\, Deutschland
GEO:52.183845;10.489461
X-APPLE-STRUCTURED-LOCATION;VALUE=URI;X-ADDRESS=Guldener Kamp 5-9\, Salzgit
 ter\, Niedersachsen\, 38239\, Deutschland;X-APPLE-RADIUS=100;X-TITLE=Resid
 enz am Lindenberg:geo:52.183845,10.489461
END:VEVENT
BEGIN:VTIMEZONE
TZID:Europe/Berlin
X-LIC-LOCATION:Europe/Berlin
BEGIN:STANDARD
DTSTART:20231029T020000
TZOFFSETFROM:+0200
TZOFFSETTO:+0100
TZNAME:CET
END:STANDARD
END:VTIMEZONE
END:VCALENDAR