BEGIN:VCALENDAR
VERSION:2.0
PRODID:-//wp-events-plugin.com//7.2.3.1//EN
TZID:Europe/Berlin
X-WR-TIMEZONE:Europe/Berlin
BEGIN:VEVENT
UID:296@aquawelt-bothe.de
DTSTART;TZID=Europe/Berlin:20230214T105000
DTEND;TZID=Europe/Berlin:20230321T112000
DTSTAMP:20221106T170247Z
URL:https://www.aquawelt-bothe.de/kurs/babyschwimmen-kurs-2-dienstag-ab-14
 -02-2023/
SUMMARY:Babyschwimmen Kurs 2 (Dienstag\, ab 14.02.2023)
DESCRIPTION:Termine\n\n 	14.02.2023 - 21.03.2023\n\n&nbsp\;\n\n 	Kursleitun
 g: Birka\n
CATEGORIES:Babyschwimmen,Babyschwimmen 7-12 Monate,Montag - Kurs 2
LOCATION:Residenz am Lindenberg\, Guldener Kamp 5-9\, Salzgitter\, Niedersa
 chsen\, 38239\, Deutschland
GEO:52.183845;10.489461
X-APPLE-STRUCTURED-LOCATION;VALUE=URI;X-ADDRESS=Guldener Kamp 5-9\, Salzgit
 ter\, Niedersachsen\, 38239\, Deutschland;X-APPLE-RADIUS=100;X-TITLE=Resid
 enz am Lindenberg:geo:52.183845,10.489461
END:VEVENT
BEGIN:VTIMEZONE
TZID:Europe/Berlin
X-LIC-LOCATION:Europe/Berlin
BEGIN:STANDARD
DTSTART:20221030T020000
TZOFFSETFROM:+0200
TZOFFSETTO:+0100
TZNAME:CET
END:STANDARD
END:VTIMEZONE
END:VCALENDAR