BEGIN:VCALENDAR
VERSION:2.0
PRODID:-//wp-events-plugin.com//7.2.3.1//EN
TZID:Europe/Berlin
X-WR-TIMEZONE:Europe/Berlin
BEGIN:VEVENT
UID:366@aquawelt-bothe.de
DTSTART;TZID=Europe/Berlin:20230911T143000
DTEND;TZID=Europe/Berlin:20231120T151500
DTSTAMP:20230828T125000Z
URL:https://www.aquawelt-bothe.de/kurs/babyschwimmen-kurs-1-montag-ab-11-0
 9-2023/
SUMMARY:Babyschwimmen Kurs 1 (Montag\, ab 11.09.2023)
DESCRIPTION:Termine\n\n 	11.09.23 - 20.11.23\n\nFerien: am 25.09.23/02.10.2
 3/16.10.23/23.10.23/30.10.23 finden keine Kurse statt.\n\nKursleitung: Jul
 ia\n\n&nbsp\;\n
CATEGORIES:Babyschwimmen,Babyschwimmen 4-7 Monate,Montag - Kurs 1
LOCATION:Residenz am Lindenberg\, Guldener Kamp 5-9\, Salzgitter\, Niedersa
 chsen\, 38239\, Deutschland
GEO:52.183845;10.489461
X-APPLE-STRUCTURED-LOCATION;VALUE=URI;X-ADDRESS=Guldener Kamp 5-9\, Salzgit
 ter\, Niedersachsen\, 38239\, Deutschland;X-APPLE-RADIUS=100;X-TITLE=Resid
 enz am Lindenberg:geo:52.183845,10.489461
END:VEVENT
BEGIN:VTIMEZONE
TZID:Europe/Berlin
X-LIC-LOCATION:Europe/Berlin
BEGIN:DAYLIGHT
DTSTART:20230326T030000
TZOFFSETFROM:+0100
TZOFFSETTO:+0200
TZNAME:CEST
END:DAYLIGHT
BEGIN:STANDARD
DTSTART:20231029T020000
TZOFFSETFROM:+0200
TZOFFSETTO:+0100
TZNAME:CET
END:STANDARD
END:VTIMEZONE
END:VCALENDAR