BEGIN:VCALENDAR
VERSION:2.0
PRODID:-//wp-events-plugin.com//7.2.3.1//EN
TZID:Europe/Berlin
X-WR-TIMEZONE:Europe/Berlin
BEGIN:VEVENT
UID:340@aquawelt-bothe.de
DTSTART;TZID=Europe/Berlin:20230428T090000
DTEND;TZID=Europe/Berlin:20230609T094500
DTSTAMP:20230228T115032Z
URL:https://www.aquawelt-bothe.de/kurs/babyschwimmen-kurs-1-freitag-ab-28-
 04-2023/
SUMMARY:Babyschwimmen Kurs 1 (Freitag\, ab 28.04.2023)
DESCRIPTION:Termine\n\n 	28.04.2023 - 09.06.2023\n\nFerien: 19.05.2023 an d
 iesen Tagen finden keine Kurse statt.\n\nKursleitung: Julia
CATEGORIES:Babyschwimmen,Babyschwimmen 4-7 Monate,Freitag - Kurs 1
LOCATION:Residenz am Lindenberg\, Guldener Kamp 5-9\, Salzgitter\, Niedersa
 chsen\, 38239\, Deutschland
GEO:52.183845;10.489461
X-APPLE-STRUCTURED-LOCATION;VALUE=URI;X-ADDRESS=Guldener Kamp 5-9\, Salzgit
 ter\, Niedersachsen\, 38239\, Deutschland;X-APPLE-RADIUS=100;X-TITLE=Resid
 enz am Lindenberg:geo:52.183845,10.489461
END:VEVENT
BEGIN:VTIMEZONE
TZID:Europe/Berlin
X-LIC-LOCATION:Europe/Berlin
BEGIN:DAYLIGHT
DTSTART:20230326T030000
TZOFFSETFROM:+0100
TZOFFSETTO:+0200
TZNAME:CEST
END:DAYLIGHT
END:VTIMEZONE
END:VCALENDAR