BEGIN:VCALENDAR
VERSION:2.0
PRODID:-//wp-events-plugin.com//7.2.3.1//EN
TZID:Europe/Berlin
X-WR-TIMEZONE:Europe/Berlin
BEGIN:VEVENT
UID:509@aquawelt-bothe.de
DTSTART;TZID=Europe/Berlin:20250110T090000
DTEND;TZID=Europe/Berlin:20250214T094500
DTSTAMP:20241209T151108Z
URL:https://www.aquawelt-bothe.de/kurs/babyschwimmen-kurs-1-freitag-ab-10-
 01-2025/
SUMMARY:Babyschwimmen Kurs 1 (Freitag\, ab 10.01.2025)
DESCRIPTION:Termine\n\n 	10.01.2025 - 14.02.2025\n\nKursleitung: Julia
CATEGORIES:Babyschwimmen,Babyschwimmen 4-7 Monate,Freitag - Kurs 1
LOCATION:Residenz am Lindenberg\, Guldener Kamp 5-9\, Salzgitter\, Niedersa
 chsen\, 38239\, Deutschland
GEO:52.183845;10.489461
X-APPLE-STRUCTURED-LOCATION;VALUE=URI;X-ADDRESS=Guldener Kamp 5-9\, Salzgit
 ter\, Niedersachsen\, 38239\, Deutschland;X-APPLE-RADIUS=100;X-TITLE=Resid
 enz am Lindenberg:geo:52.183845,10.489461
END:VEVENT
BEGIN:VTIMEZONE
TZID:Europe/Berlin
X-LIC-LOCATION:Europe/Berlin
BEGIN:STANDARD
DTSTART:20241027T020000
TZOFFSETFROM:+0200
TZOFFSETTO:+0100
TZNAME:CET
END:STANDARD
END:VTIMEZONE
END:VCALENDAR