BEGIN:VCALENDAR
VERSION:2.0
PRODID:-//wp-events-plugin.com//7.2.3.1//EN
TZID:Europe/Berlin
X-WR-TIMEZONE:Europe/Berlin
BEGIN:VEVENT
UID:230@aquawelt-bothe.de
DTSTART;TZID=Europe/Berlin:20220906T100000
DTEND;TZID=Europe/Berlin:20221011T104500
DTSTAMP:20220517T094208Z
URL:https://www.aquawelt-bothe.de/kurs/babyschwimmen-kurs-1-dienstag-ab-06
 -09-2022/
SUMMARY:Babyschwimmen Kurs 1 (Dienstag\, ab 06.09.2022)
DESCRIPTION:Termine\n\n 	06.09.2022 - 11.10.2022\n 	Kursleitung Birka\n\n&n
 bsp\;\n
CATEGORIES:Babyschwimmen,Babyschwimmen 4-7 Monate,Montag - Kurs 1
LOCATION:Residenz am Lindenberg\, Guldener Kamp 5-9\, Salzgitter\, Niedersa
 chsen\, 38239\, Deutschland
GEO:52.183845;10.489461
X-APPLE-STRUCTURED-LOCATION;VALUE=URI;X-ADDRESS=Guldener Kamp 5-9\, Salzgit
 ter\, Niedersachsen\, 38239\, Deutschland;X-APPLE-RADIUS=100;X-TITLE=Resid
 enz am Lindenberg:geo:52.183845,10.489461
END:VEVENT
BEGIN:VTIMEZONE
TZID:Europe/Berlin
X-LIC-LOCATION:Europe/Berlin
BEGIN:DAYLIGHT
DTSTART:20220327T030000
TZOFFSETFROM:+0100
TZOFFSETTO:+0200
TZNAME:CEST
END:DAYLIGHT
END:VTIMEZONE
END:VCALENDAR