BEGIN:VCALENDAR
VERSION:2.0
PRODID:-//wp-events-plugin.com//7.2.3.1//EN
TZID:Europe/Berlin
X-WR-TIMEZONE:Europe/Berlin
BEGIN:VEVENT
UID:493@aquawelt-bothe.de
DTSTART;TZID=Europe/Berlin:20240917T100000
DTEND;TZID=Europe/Berlin:20241105T104500
DTSTAMP:20240627T111057Z
URL:https://www.aquawelt-bothe.de/kurs/babyschwimmen-kurs-1-dienstag-17-09
 -2024/
SUMMARY:Babyschwimmen Kurs 1 (Dienstag\, 17.09.2024)
DESCRIPTION:Termine\n\n 	17.09.2024 - 05.11.2024\n\nFerien: 08..10.24/15.10
 .2024 an diesen Tagen finden keine Kurse statt\n\n&nbsp\;\n\n 	Kursleitung
  Birka\n\n&nbsp\;\n
CATEGORIES:Babyschwimmen,Babyschwimmen 4-7 Monate,Montag - Kurs 1
LOCATION:Residenz am Lindenberg\, Guldener Kamp 5-9\, Salzgitter\, Niedersa
 chsen\, 38239\, Deutschland
GEO:52.183845;10.489461
X-APPLE-STRUCTURED-LOCATION;VALUE=URI;X-ADDRESS=Guldener Kamp 5-9\, Salzgit
 ter\, Niedersachsen\, 38239\, Deutschland;X-APPLE-RADIUS=100;X-TITLE=Resid
 enz am Lindenberg:geo:52.183845,10.489461
END:VEVENT
BEGIN:VTIMEZONE
TZID:Europe/Berlin
X-LIC-LOCATION:Europe/Berlin
BEGIN:DAYLIGHT
DTSTART:20240331T030000
TZOFFSETFROM:+0100
TZOFFSETTO:+0200
TZNAME:CEST
END:DAYLIGHT
BEGIN:STANDARD
DTSTART:20241027T020000
TZOFFSETFROM:+0200
TZOFFSETTO:+0100
TZNAME:CET
END:STANDARD
END:VTIMEZONE
END:VCALENDAR