BEGIN:VCALENDAR
VERSION:2.0
PRODID:-//wp-events-plugin.com//7.2.3.1//EN
TZID:Europe/Berlin
X-WR-TIMEZONE:Europe/Berlin
BEGIN:VEVENT
UID:618@aquawelt-bothe.de
DTSTART;TZID=Europe/Berlin:20251027T153000
DTEND;TZID=Europe/Berlin:20251222T161500
DTSTAMP:20251024T120748Z
URL:https://www.aquawelt-bothe.de/kurs/babyschwimmen-ab-4-monaten-montag-2
 7-10-2025/
SUMMARY:Babyschwimmen ab 4 Monaten (Montag\, 27.10.2025)
DESCRIPTION:Termin:\n\n27.10.25 - 22.12.2025\n\nFerien:\n\n17.11./24.11./01
 .12.2025 an diesen Tagen finden keine Kurse statt.\n\nKursleitung: Julia
CATEGORIES:Babyschwimmen,Babyschwimmen 4-7 Monate,Montag - Kurs 1
LOCATION:Residenz am Lindenberg\, Guldener Kamp 5-9\, Salzgitter\, Niedersa
 chsen\, 38239\, Deutschland
GEO:52.183845;10.489461
X-APPLE-STRUCTURED-LOCATION;VALUE=URI;X-ADDRESS=Guldener Kamp 5-9\, Salzgit
 ter\, Niedersachsen\, 38239\, Deutschland;X-APPLE-RADIUS=100;X-TITLE=Resid
 enz am Lindenberg:geo:52.183845,10.489461
END:VEVENT
BEGIN:VTIMEZONE
TZID:Europe/Berlin
X-LIC-LOCATION:Europe/Berlin
BEGIN:STANDARD
DTSTART:20251026T020000
TZOFFSETFROM:+0200
TZOFFSETTO:+0100
TZNAME:CET
END:STANDARD
END:VTIMEZONE
END:VCALENDAR