BEGIN:VCALENDAR
VERSION:2.0
PRODID:-//wp-events-plugin.com//7.2.3.1//EN
TZID:Europe/Berlin
X-WR-TIMEZONE:Europe/Berlin
BEGIN:VEVENT
UID:600@aquawelt-bothe.de
DTSTART;TZID=Europe/Berlin:20251007T111000
DTEND;TZID=Europe/Berlin:20251125T115500
DTSTAMP:20250721T110117Z
URL:https://www.aquawelt-bothe.de/kurs/babyschwimmen-ab-4-monaten-dienstag
 -07-10-2025/
SUMMARY:Babyschwimmen ab 4 Monaten (Dienstag\, 07.10.2025)
DESCRIPTION:Termin:\n\n07.10.2025 - 25.11.2025\n\nFerien:\n\n14.10./21.10.2
 025 an diesen Tagen finden keine Kurse statt.\n\nK.ursleitung: Birka
CATEGORIES:Babyschwimmen,Babyschwimmen 4-7 Monate,Dienstag - Kurs 1
LOCATION:Residenz am Lindenberg\, Guldener Kamp 5-9\, Salzgitter\, Niedersa
 chsen\, 38239\, Deutschland
GEO:52.183845;10.489461
X-APPLE-STRUCTURED-LOCATION;VALUE=URI;X-ADDRESS=Guldener Kamp 5-9\, Salzgit
 ter\, Niedersachsen\, 38239\, Deutschland;X-APPLE-RADIUS=100;X-TITLE=Resid
 enz am Lindenberg:geo:52.183845,10.489461
END:VEVENT
BEGIN:VTIMEZONE
TZID:Europe/Berlin
X-LIC-LOCATION:Europe/Berlin
BEGIN:DAYLIGHT
DTSTART:20250330T030000
TZOFFSETFROM:+0100
TZOFFSETTO:+0200
TZNAME:CEST
END:DAYLIGHT
BEGIN:STANDARD
DTSTART:20251026T020000
TZOFFSETFROM:+0200
TZOFFSETTO:+0100
TZNAME:CET
END:STANDARD
END:VTIMEZONE
END:VCALENDAR