BEGIN:VCALENDAR
VERSION:2.0
PRODID:-//wp-events-plugin.com//7.2.3.1//EN
TZID:Europe/Berlin
X-WR-TIMEZONE:Europe/Berlin
BEGIN:VEVENT
UID:699@aquawelt-bothe.de
DTSTART;TZID=Europe/Berlin:20260519T103500
DTEND;TZID=Europe/Berlin:20260630T110500
DTSTAMP:20260218T110035Z
URL:https://www.aquawelt-bothe.de/kurs/babyschwimmen-7-12-monate-dienstag-
 19-05-2026/
SUMMARY:Babyschwimmen 7-12 Monate (Dienstag\, 19.05.2026)
DESCRIPTION:Termin:\n\n19.05.2026 - 30.06.2026\n\nFerien:\n\n26.05.2026 an 
 diesen Tagen finden keine Kurse statt.\n\nKursleitung: Birka
CATEGORIES:Babyschwimmen,Babyschwimmen 7-12 Monate,Dienstag - Kurs 2
LOCATION:Residenz am Lindenberg\, Guldener Kamp 5-9\, Salzgitter\, Niedersa
 chsen\, 38239\, Deutschland
GEO:52.183845;10.489461
X-APPLE-STRUCTURED-LOCATION;VALUE=URI;X-ADDRESS=Guldener Kamp 5-9\, Salzgit
 ter\, Niedersachsen\, 38239\, Deutschland;X-APPLE-RADIUS=100;X-TITLE=Resid
 enz am Lindenberg:geo:52.183845,10.489461
END:VEVENT
BEGIN:VTIMEZONE
TZID:Europe/Berlin
X-LIC-LOCATION:Europe/Berlin
BEGIN:DAYLIGHT
DTSTART:20260329T030000
TZOFFSETFROM:+0100
TZOFFSETTO:+0200
TZNAME:CEST
END:DAYLIGHT
END:VTIMEZONE
END:VCALENDAR