BEGIN:VCALENDAR
VERSION:2.0
PRODID:-//wp-events-plugin.com//7.2.3.1//EN
TZID:Europe/Berlin
X-WR-TIMEZONE:Europe/Berlin
BEGIN:VEVENT
UID:404@aquawelt-bothe.de
DTSTART;TZID=Europe/Berlin:20230916T120000
DTEND;TZID=Europe/Berlin:20231202T124000
DTSTAMP:20231003T115828Z
URL:https://www.aquawelt-bothe.de/kurs/aquajogging-und-tabata-samstag-ab-1
 6-09-2023/
SUMMARY:Aquajogging und Tabata (Samstag ab 16.09.2023)
DESCRIPTION:Termin:\n\n16.09.2023 - 02.12.2023\n\nFerien:\n\n23.09.23/30.09
 .23/21.10.23/28.10.23 an diesen Tagen finden keine Kurse statt.\n\nKurslei
 tung:\n\nJulia
CATEGORIES:Aquajogging
LOCATION:Thieder Bad\, Danziger Straße 2\, Salzgitter\, Niedersachsen\, 38
 239\, Deutschland
GEO:52.19559;10.479138
X-APPLE-STRUCTURED-LOCATION;VALUE=URI;X-ADDRESS=Danziger Straße 2\, Salzgi
 tter\, Niedersachsen\, 38239\, Deutschland;X-APPLE-RADIUS=100;X-TITLE=Thie
 der Bad:geo:52.19559,10.479138
END:VEVENT
BEGIN:VTIMEZONE
TZID:Europe/Berlin
X-LIC-LOCATION:Europe/Berlin
BEGIN:DAYLIGHT
DTSTART:20230326T030000
TZOFFSETFROM:+0100
TZOFFSETTO:+0200
TZNAME:CEST
END:DAYLIGHT
BEGIN:STANDARD
DTSTART:20231029T020000
TZOFFSETFROM:+0200
TZOFFSETTO:+0100
TZNAME:CET
END:STANDARD
END:VTIMEZONE
END:VCALENDAR