BEGIN:VCALENDAR
VERSION:2.0
PRODID:-//wp-events-plugin.com//7.2.3.1//EN
TZID:Europe/Berlin
X-WR-TIMEZONE:Europe/Berlin
BEGIN:VEVENT
UID:575@aquawelt-bothe.de
DTSTART;TZID=Europe/Berlin:20250714T174500
DTEND;TZID=Europe/Berlin:20250915T182500
DTSTAMP:20250509T101415Z
URL:https://www.aquawelt-bothe.de/kurs/aquafitness-nach-der-schwangerschaf
 t-montag-14-07-2025/
SUMMARY:Aquafitness nach der Schwangerschaft (Montag\, 14.07.2025)
DESCRIPTION:Termine: 14.07.2025 - 15.09.2025\n\n&nbsp\;\n\nFerien: 01.09./0
 8.09.2025\n\n&nbsp\;\n\nKursleitung: Julia
CATEGORIES:Aquafitness nach der Schwangerschaft
LOCATION:Residenz am Lindenberg\, Guldener Kamp 5-9\, Salzgitter\, Niedersa
 chsen\, 38239\, Deutschland
GEO:52.183845;10.489461
X-APPLE-STRUCTURED-LOCATION;VALUE=URI;X-ADDRESS=Guldener Kamp 5-9\, Salzgit
 ter\, Niedersachsen\, 38239\, Deutschland;X-APPLE-RADIUS=100;X-TITLE=Resid
 enz am Lindenberg:geo:52.183845,10.489461
END:VEVENT
BEGIN:VTIMEZONE
TZID:Europe/Berlin
X-LIC-LOCATION:Europe/Berlin
BEGIN:DAYLIGHT
DTSTART:20250330T030000
TZOFFSETFROM:+0100
TZOFFSETTO:+0200
TZNAME:CEST
END:DAYLIGHT
END:VTIMEZONE
END:VCALENDAR