BEGIN:VCALENDAR
VERSION:2.0
PRODID:-//wp-events-plugin.com//7.2.3.1//EN
TZID:Europe/Berlin
X-WR-TIMEZONE:Europe/Berlin
BEGIN:VEVENT
UID:309@aquawelt-bothe.de
DTSTART;TZID=Europe/Berlin:20230424T183000
DTEND;TZID=Europe/Berlin:20230626T191000
DTSTAMP:20230403T100020Z
URL:https://www.aquawelt-bothe.de/kurs/aquafitness-nach-der-schwangerschaf
 t-6/
SUMMARY:Aquafitness nach der Schwangerschaft
DESCRIPTION:Termine: 24.04.23 - 26.06.23\n\nFerien: 01.05.23/29.05.23 in di
 esem Zeitraum keine Kurse.
CATEGORIES:Aquafitness nach der Schwangerschaft
LOCATION:Residenz am Lindenberg\, Guldener Kamp 5-9\, Salzgitter\, Niedersa
 chsen\, 38239\, Deutschland
GEO:52.183845;10.489461
X-APPLE-STRUCTURED-LOCATION;VALUE=URI;X-ADDRESS=Guldener Kamp 5-9\, Salzgit
 ter\, Niedersachsen\, 38239\, Deutschland;X-APPLE-RADIUS=100;X-TITLE=Resid
 enz am Lindenberg:geo:52.183845,10.489461
END:VEVENT
BEGIN:VTIMEZONE
TZID:Europe/Berlin
X-LIC-LOCATION:Europe/Berlin
BEGIN:DAYLIGHT
DTSTART:20230326T030000
TZOFFSETFROM:+0100
TZOFFSETTO:+0200
TZNAME:CEST
END:DAYLIGHT
END:VTIMEZONE
END:VCALENDAR