BEGIN:VCALENDAR
VERSION:2.0
PRODID:-//wp-events-plugin.com//7.2.3.1//EN
TZID:Europe/Berlin
X-WR-TIMEZONE:Europe/Berlin
BEGIN:VEVENT
UID:279@aquawelt-bothe.de
DTSTART;TZID=Europe/Berlin:20221219T183000
DTEND;TZID=Europe/Berlin:20230313T191000
DTSTAMP:20221214T094350Z
URL:https://www.aquawelt-bothe.de/kurs/aquafitness-nach-der-schwangerschaf
 t-5/
SUMMARY:Aquafitness nach der Schwangerschaft
DESCRIPTION:Termine: 19.12.2022 - 13.03.2023\n\nFerien: 26.12.22/02.01.2023
 /06.02.23/13.02.23/20.02.23 in diesem Zeitraum keine Kurse.
CATEGORIES:Aquafitness nach der Schwangerschaft
LOCATION:Residenz am Lindenberg\, Guldener Kamp 5-9\, Salzgitter\, Niedersa
 chsen\, 38239\, Deutschland
GEO:52.183845;10.489461
X-APPLE-STRUCTURED-LOCATION;VALUE=URI;X-ADDRESS=Guldener Kamp 5-9\, Salzgit
 ter\, Niedersachsen\, 38239\, Deutschland;X-APPLE-RADIUS=100;X-TITLE=Resid
 enz am Lindenberg:geo:52.183845,10.489461
END:VEVENT
BEGIN:VTIMEZONE
TZID:Europe/Berlin
X-LIC-LOCATION:Europe/Berlin
BEGIN:STANDARD
DTSTART:20221030T020000
TZOFFSETFROM:+0200
TZOFFSETTO:+0100
TZNAME:CET
END:STANDARD
END:VTIMEZONE
END:VCALENDAR