BEGIN:VCALENDAR
VERSION:2.0
PRODID:-//wp-events-plugin.com//7.2.3.1//EN
TZID:Europe/Berlin
X-WR-TIMEZONE:Europe/Berlin
BEGIN:VEVENT
UID:245@aquawelt-bothe.de
DTSTART;TZID=Europe/Berlin:20220926T183000
DTEND;TZID=Europe/Berlin:20221212T191000
DTSTAMP:20220924T053814Z
URL:https://www.aquawelt-bothe.de/kurs/aquafitness-nach-der-schwangerschaf
 t-4/
SUMMARY:Aquafitness nach der Schwangerschaft
DESCRIPTION:Termine: 26.09.2022 - 12.12.2022\n\nFerien: 03.10.22/17.10.22/2
 4.10.22/31.10.22 in diesem Zeitraum keine Kurse.
CATEGORIES:Aquafitness nach der Schwangerschaft
LOCATION:Residenz am Lindenberg\, Guldener Kamp 5-9\, Salzgitter\, Niedersa
 chsen\, 38239\, Deutschland
GEO:52.183845;10.489461
X-APPLE-STRUCTURED-LOCATION;VALUE=URI;X-ADDRESS=Guldener Kamp 5-9\, Salzgit
 ter\, Niedersachsen\, 38239\, Deutschland;X-APPLE-RADIUS=100;X-TITLE=Resid
 enz am Lindenberg:geo:52.183845,10.489461
END:VEVENT
BEGIN:VTIMEZONE
TZID:Europe/Berlin
X-LIC-LOCATION:Europe/Berlin
BEGIN:DAYLIGHT
DTSTART:20220327T030000
TZOFFSETFROM:+0100
TZOFFSETTO:+0200
TZNAME:CEST
END:DAYLIGHT
BEGIN:STANDARD
DTSTART:20221030T020000
TZOFFSETFROM:+0200
TZOFFSETTO:+0100
TZNAME:CET
END:STANDARD
END:VTIMEZONE
END:VCALENDAR