BEGIN:VCALENDAR
VERSION:2.0
PRODID:-//wp-events-plugin.com//7.2.3.1//EN
TZID:Europe/Berlin
X-WR-TIMEZONE:Europe/Berlin
BEGIN:VEVENT
UID:624@aquawelt-bothe.de
DTSTART;TZID=Europe/Berlin:20251010T180500
DTEND;TZID=Europe/Berlin:20251024T184500
DTSTAMP:20250925T073940Z
URL:https://www.aquawelt-bothe.de/kurs/aquafitness-fuer-frauen-mit-lipoede
 m-lymphoedem-freitag-10-10-2025-2/
SUMMARY:Aquafitness für Frauen mit Lipödem & Lymphödem (Freitag\, 10.10.
 2025)
DESCRIPTION:Dieser Kurs ist auf 3 Einheiten begrenzt.\n\n&nbsp\;\n\nTermin:
 \n\n10.10.2025 - 24.10.2025\n\nKursleitung:\n\nJuliane
CATEGORIES:Aquafitness für Frauen mit Lipödem &amp; Lymphödem
LOCATION:Residenz am Lindenberg\, Guldener Kamp 5-9\, Salzgitter\, Niedersa
 chsen\, 38239\, Deutschland
GEO:52.183845;10.489461
X-APPLE-STRUCTURED-LOCATION;VALUE=URI;X-ADDRESS=Guldener Kamp 5-9\, Salzgit
 ter\, Niedersachsen\, 38239\, Deutschland;X-APPLE-RADIUS=100;X-TITLE=Resid
 enz am Lindenberg:geo:52.183845,10.489461
END:VEVENT
BEGIN:VTIMEZONE
TZID:Europe/Berlin
X-LIC-LOCATION:Europe/Berlin
BEGIN:DAYLIGHT
DTSTART:20250330T030000
TZOFFSETFROM:+0100
TZOFFSETTO:+0200
TZNAME:CEST
END:DAYLIGHT
END:VTIMEZONE
END:VCALENDAR