BEGIN:VCALENDAR
VERSION:2.0
PRODID:-//wp-events-plugin.com//7.2.3.1//EN
TZID:Europe/Berlin
X-WR-TIMEZONE:Europe/Berlin
BEGIN:VEVENT
UID:726@aquawelt-bothe.de
DTSTART;TZID=Europe/Berlin:20260606T120000
DTEND;TZID=Europe/Berlin:20260606T125000
DTSTAMP:20260409T104231Z
URL:https://www.aquawelt-bothe.de/kurs/aquafitness-fuer-frauen-mit-lip-und
 -lymphoedem-mehrgewicht-samstag-06-06-2026/
SUMMARY:Aquafitness für Frauen mit Lip- und Lymphödem & Mehrgewicht (Sams
 tag\, 06.06.2026)
DESCRIPTION:Einzeltermin\n\n06.06.2026\n\nKursleitung:\n\nJuliane Stamm
CATEGORIES:Aquafitness für Frauen mit Lipödem &amp; Lymphödem &amp;
 Mehrgewicht
LOCATION:Thieder Bad\, Danziger Straße 2\, Salzgitter\, Niedersachsen\, 38
 239\, Deutschland
GEO:52.19559;10.479138
X-APPLE-STRUCTURED-LOCATION;VALUE=URI;X-ADDRESS=Danziger Straße 2\, Salzgi
 tter\, Niedersachsen\, 38239\, Deutschland;X-APPLE-RADIUS=100;X-TITLE=Thie
 der Bad:geo:52.19559,10.479138
END:VEVENT
BEGIN:VTIMEZONE
TZID:Europe/Berlin
X-LIC-LOCATION:Europe/Berlin
BEGIN:DAYLIGHT
DTSTART:20260329T030000
TZOFFSETFROM:+0100
TZOFFSETTO:+0200
TZNAME:CEST
END:DAYLIGHT
END:VTIMEZONE
END:VCALENDAR