BEGIN:VCALENDAR
VERSION:2.0
PRODID:-//wp-events-plugin.com//7.2.3.1//EN
TZID:Europe/Berlin
X-WR-TIMEZONE:Europe/Berlin
BEGIN:VEVENT
UID:467@aquawelt-bothe.de
DTSTART;TZID=Europe/Berlin:20240515T164500
DTEND;TZID=Europe/Berlin:20240619T172500
DTSTAMP:20240303T171415Z
URL:https://www.aquawelt-bothe.de/kurs/aqua-power-mittwoch-ab-15-05-2024/
SUMMARY:Aqua-Power (Mittwoch ab 15.05.2024)
DESCRIPTION:Termin:\n\n15.05.24 - 19.06.24\n\nDieser Kurs geht 6 Einheiten!
 !!!!\n\nKursleitung:\n\nJulia\n\n&nbsp\;
CATEGORIES:Aqua-Power
LOCATION:Residenz am Lindenberg\, Guldener Kamp 5-9\, Salzgitter\, Niedersa
 chsen\, 38239\, Deutschland
GEO:52.183845;10.489461
X-APPLE-STRUCTURED-LOCATION;VALUE=URI;X-ADDRESS=Guldener Kamp 5-9\, Salzgit
 ter\, Niedersachsen\, 38239\, Deutschland;X-APPLE-RADIUS=100;X-TITLE=Resid
 enz am Lindenberg:geo:52.183845,10.489461
END:VEVENT
BEGIN:VTIMEZONE
TZID:Europe/Berlin
X-LIC-LOCATION:Europe/Berlin
BEGIN:DAYLIGHT
DTSTART:20240331T030000
TZOFFSETFROM:+0100
TZOFFSETTO:+0200
TZNAME:CEST
END:DAYLIGHT
END:VTIMEZONE
END:VCALENDAR