BEGIN:VCALENDAR
VERSION:2.0
PRODID:-//wp-events-plugin.com//7.2.3.1//EN
TZID:Europe/Berlin
X-WR-TIMEZONE:Europe/Berlin
BEGIN:VEVENT
UID:572@aquawelt-bothe.de
DTSTART;TZID=Europe/Berlin:20250722T180000
DTEND;TZID=Europe/Berlin:20250930T184000
DTSTAMP:20250704T162307Z
URL:https://www.aquawelt-bothe.de/kurs/aqua-power-dienstag-ab-22-07-2025/
SUMMARY:Aqua-Power (Dienstag ab 22.07.2025)
DESCRIPTION:Termin:\n\n22.07.2025 - 30.09.2025\n\nFerien:\n\n26.08/02.09.20
 25 an diesen Tagen finden keine Kurse statt.\n\nKursleitung:\n\nBianca\n\n
 &nbsp\;
CATEGORIES:Aqua-Power
LOCATION:Residenz am Lindenberg\, Guldener Kamp 5-9\, Salzgitter\, Niedersa
 chsen\, 38239\, Deutschland
GEO:52.183845;10.489461
X-APPLE-STRUCTURED-LOCATION;VALUE=URI;X-ADDRESS=Guldener Kamp 5-9\, Salzgit
 ter\, Niedersachsen\, 38239\, Deutschland;X-APPLE-RADIUS=100;X-TITLE=Resid
 enz am Lindenberg:geo:52.183845,10.489461
END:VEVENT
BEGIN:VTIMEZONE
TZID:Europe/Berlin
X-LIC-LOCATION:Europe/Berlin
BEGIN:DAYLIGHT
DTSTART:20250330T030000
TZOFFSETFROM:+0100
TZOFFSETTO:+0200
TZNAME:CEST
END:DAYLIGHT
END:VTIMEZONE
END:VCALENDAR